BEGIN:VCALENDAR
VERSION:2.0
PRODID:-//Szkolne dni nietypowe - ECPv6.15.12.2//NONSGML v1.0//EN
CALSCALE:GREGORIAN
METHOD:PUBLISH
X-WR-CALNAME:Szkolne dni nietypowe
X-ORIGINAL-URL:https://szkolnedninietypowe.pl
X-WR-CALDESC:Wydarzenia dla Szkolne dni nietypowe
REFRESH-INTERVAL;VALUE=DURATION:PT1H
X-Robots-Tag:noindex
X-PUBLISHED-TTL:PT1H
BEGIN:VTIMEZONE
TZID:Europe/Warsaw
BEGIN:DAYLIGHT
TZOFFSETFROM:+0100
TZOFFSETTO:+0200
TZNAME:CEST
DTSTART:20240331T010000
END:DAYLIGHT
BEGIN:STANDARD
TZOFFSETFROM:+0200
TZOFFSETTO:+0100
TZNAME:CET
DTSTART:20241027T010000
END:STANDARD
BEGIN:DAYLIGHT
TZOFFSETFROM:+0100
TZOFFSETTO:+0200
TZNAME:CEST
DTSTART:20250330T010000
END:DAYLIGHT
BEGIN:STANDARD
TZOFFSETFROM:+0200
TZOFFSETTO:+0100
TZNAME:CET
DTSTART:20251026T010000
END:STANDARD
BEGIN:DAYLIGHT
TZOFFSETFROM:+0100
TZOFFSETTO:+0200
TZNAME:CEST
DTSTART:20260329T010000
END:DAYLIGHT
BEGIN:STANDARD
TZOFFSETFROM:+0200
TZOFFSETTO:+0100
TZNAME:CET
DTSTART:20261025T010000
END:STANDARD
END:VTIMEZONE
BEGIN:VEVENT
DTSTART;VALUE=DATE:20251024
DTEND;VALUE=DATE:20251025
DTSTAMP:20260422T195317
CREATED:20251016T143049Z
LAST-MODIFIED:20251016T143618Z
UID:639-1761264000-1761350399@szkolnedninietypowe.pl
SUMMARY:Światowy Dzień Origami
DESCRIPTION:PRZEDMIOT: technika\, plastyka\, matematyka\, język polski\, historia\, WOS\, informatyka\, zajęcia z pedagogiem lub psychologiem\, godzina wychowawcza\, biblioteka\, plastyka\, technika\, świetlica\, edukacja wczesnoszkolna\, edukacja przedszkolna\nINSPIRACJE I POMYSŁY DOSTĘPNE W ARTYKULE: \n\nDzień Origami – sztuka składania papieru jako źródło kreatywności
URL:https://szkolnedninietypowe.pl/kalendarz/dzien-origami/
LOCATION:Szkoła
ATTACH;FMTTYPE=image/jpeg:https://szkolnedninietypowe.pl/wp-content/uploads/2025/08/logo-DZIEN-ORIGAMI.jpg
END:VEVENT
END:VCALENDAR