BEGIN:VCALENDAR
VERSION:2.0
PRODID:-//Szkolne dni nietypowe - ECPv6.15.12.2//NONSGML v1.0//EN
CALSCALE:GREGORIAN
METHOD:PUBLISH
X-WR-CALNAME:Szkolne dni nietypowe
X-ORIGINAL-URL:https://szkolnedninietypowe.pl
X-WR-CALDESC:Wydarzenia dla Szkolne dni nietypowe
REFRESH-INTERVAL;VALUE=DURATION:PT1H
X-Robots-Tag:noindex
X-PUBLISHED-TTL:PT1H
BEGIN:VTIMEZONE
TZID:Europe/Warsaw
BEGIN:DAYLIGHT
TZOFFSETFROM:+0100
TZOFFSETTO:+0200
TZNAME:CEST
DTSTART:20240331T010000
END:DAYLIGHT
BEGIN:STANDARD
TZOFFSETFROM:+0200
TZOFFSETTO:+0100
TZNAME:CET
DTSTART:20241027T010000
END:STANDARD
BEGIN:DAYLIGHT
TZOFFSETFROM:+0100
TZOFFSETTO:+0200
TZNAME:CEST
DTSTART:20250330T010000
END:DAYLIGHT
BEGIN:STANDARD
TZOFFSETFROM:+0200
TZOFFSETTO:+0100
TZNAME:CET
DTSTART:20251026T010000
END:STANDARD
BEGIN:DAYLIGHT
TZOFFSETFROM:+0100
TZOFFSETTO:+0200
TZNAME:CEST
DTSTART:20260329T010000
END:DAYLIGHT
BEGIN:STANDARD
TZOFFSETFROM:+0200
TZOFFSETTO:+0100
TZNAME:CET
DTSTART:20261025T010000
END:STANDARD
END:VTIMEZONE
BEGIN:VEVENT
DTSTART;VALUE=DATE:20250922
DTEND;VALUE=DATE:20250923
DTSTAMP:20260419T231456
CREATED:20250730T165411Z
LAST-MODIFIED:20250928T153614Z
UID:556-1758499200-1758585599@szkolnedninietypowe.pl
SUMMARY:Światowy Dzień Nosorożca
DESCRIPTION:PRZEDMIOT: przyroda\, biologia\, geografia\, język polski\, plastyka\, zajęcia z pedagogiem lub psychologiem\, świetlica\, edukacja wczesnoszkolna\, edukacja przedszkolna\nINSPIRACJE:\n1. Konkurs plastyczny: „Nosorożec w moich oczach”\n2. Projekt edukacyjny: „Poznajmy nosorożce!”\n3. Warsztaty terenowe lub wycieczka\n4. Debata uczniowska: „Czy da się uratować nosorożce?”\n5. Zajęcia w świetlicy: „Nosorożec z recyklingu”\n6. Zajęcia z pedagogiem lub psychologiem: „Nosorożec – symbol siły i wrażliwości”\n7. Kampania szkolna: „Chrońmy ginące gatunki”\n8. Czytelnicze inspiracje: „Opowieści o nosorożcach”\n9. Dzień nosorożca z nauką\n10. Miniwykład lub zaproszenie gościa \nINSPIRACJE I POMYSŁY DOSTĘPNE W ARTYKULE: \n\n🦏 Światowy Dzień Nosorożca – edukacja\, empatia i zaangażowanie
URL:https://szkolnedninietypowe.pl/kalendarz/swiatowy-dzien-nosorozca/
LOCATION:Szkoła
ATTACH;FMTTYPE=image/png:https://szkolnedninietypowe.pl/wp-content/uploads/2025/09/LOGO.png
END:VEVENT
END:VCALENDAR