BEGIN:VCALENDAR
VERSION:2.0
PRODID:-//Szkolne dni nietypowe - ECPv6.15.12.2//NONSGML v1.0//EN
CALSCALE:GREGORIAN
METHOD:PUBLISH
X-ORIGINAL-URL:https://szkolnedninietypowe.pl
X-WR-CALDESC:Wydarzenia dla Szkolne dni nietypowe
REFRESH-INTERVAL;VALUE=DURATION:PT1H
X-Robots-Tag:noindex
X-PUBLISHED-TTL:PT1H
BEGIN:VTIMEZONE
TZID:Europe/Warsaw
BEGIN:DAYLIGHT
TZOFFSETFROM:+0100
TZOFFSETTO:+0200
TZNAME:CEST
DTSTART:20240331T010000
END:DAYLIGHT
BEGIN:STANDARD
TZOFFSETFROM:+0200
TZOFFSETTO:+0100
TZNAME:CET
DTSTART:20241027T010000
END:STANDARD
BEGIN:DAYLIGHT
TZOFFSETFROM:+0100
TZOFFSETTO:+0200
TZNAME:CEST
DTSTART:20250330T010000
END:DAYLIGHT
BEGIN:STANDARD
TZOFFSETFROM:+0200
TZOFFSETTO:+0100
TZNAME:CET
DTSTART:20251026T010000
END:STANDARD
BEGIN:DAYLIGHT
TZOFFSETFROM:+0100
TZOFFSETTO:+0200
TZNAME:CEST
DTSTART:20260329T010000
END:DAYLIGHT
BEGIN:STANDARD
TZOFFSETFROM:+0200
TZOFFSETTO:+0100
TZNAME:CET
DTSTART:20261025T010000
END:STANDARD
END:VTIMEZONE
BEGIN:VEVENT
DTSTART;VALUE=DATE:20250925
DTEND;VALUE=DATE:20250926
DTSTAMP:20260420T042840
CREATED:20250810T114321Z
LAST-MODIFIED:20251020T170221Z
UID:3554-1758758400-1758844799@szkolnedninietypowe.pl
SUMMARY:Światowy Dzień Morza
DESCRIPTION:PRZEDMIOT: przyroda\, chemia\, geografia\, matematyka\, język polski\, plastyka\, technika\, świetlica\, edukacja wczesnoszkolna\, edukacja przedszkolna\nINSPIRACJE:\n• Turniej wiedzy na temat mórz\n• Plakat „Chrońmy morza!”\n• Pochód szkolny + spektakl\n• Wycieczka szkolna do muzeum morza https://nmm.pl/\n• Własny pomysł \nSZCZEGÓŁY I MATERIAŁY DOSTĘPNE W ARTYKULE: \n\nŚwiatowy Dzień Morza – pomysł na szkolne wydarzenie z głębi oceanu
URL:https://szkolnedninietypowe.pl/kalendarz/swiatowy-dzien-morza/
LOCATION:Szkoła
ATTACH;FMTTYPE=image/jpeg:https://szkolnedninietypowe.pl/wp-content/uploads/2025/07/LOGOdzien-morza-w-naszej-szkole.jpg
END:VEVENT
END:VCALENDAR