BEGIN:VCALENDAR
VERSION:2.0
PRODID:-//Szkolne dni nietypowe - ECPv6.15.12.2//NONSGML v1.0//EN
CALSCALE:GREGORIAN
METHOD:PUBLISH
X-ORIGINAL-URL:https://szkolnedninietypowe.pl
X-WR-CALDESC:Wydarzenia dla Szkolne dni nietypowe
REFRESH-INTERVAL;VALUE=DURATION:PT1H
X-Robots-Tag:noindex
X-PUBLISHED-TTL:PT1H
BEGIN:VTIMEZONE
TZID:Europe/Warsaw
BEGIN:DAYLIGHT
TZOFFSETFROM:+0100
TZOFFSETTO:+0200
TZNAME:CEST
DTSTART:20240331T010000
END:DAYLIGHT
BEGIN:STANDARD
TZOFFSETFROM:+0200
TZOFFSETTO:+0100
TZNAME:CET
DTSTART:20241027T010000
END:STANDARD
BEGIN:DAYLIGHT
TZOFFSETFROM:+0100
TZOFFSETTO:+0200
TZNAME:CEST
DTSTART:20250330T010000
END:DAYLIGHT
BEGIN:STANDARD
TZOFFSETFROM:+0200
TZOFFSETTO:+0100
TZNAME:CET
DTSTART:20251026T010000
END:STANDARD
BEGIN:DAYLIGHT
TZOFFSETFROM:+0100
TZOFFSETTO:+0200
TZNAME:CEST
DTSTART:20260329T010000
END:DAYLIGHT
BEGIN:STANDARD
TZOFFSETFROM:+0200
TZOFFSETTO:+0100
TZNAME:CET
DTSTART:20261025T010000
END:STANDARD
END:VTIMEZONE
BEGIN:VEVENT
DTSTART;VALUE=DATE:20250902
DTEND;VALUE=DATE:20250903
DTSTAMP:20260420T035436
CREATED:20250810T114132Z
LAST-MODIFIED:20250904T195321Z
UID:3500-1756771200-1756857599@szkolnedninietypowe.pl
SUMMARY:Dzień Dużego Rozmiaru
DESCRIPTION:PRZEDMIOT: matematyka\, plastyka\, technika\, zajęcia z pedagogiem/psychologiem\, świetlica\, edukacja wczesnoszkolna\, edukacja przedszkolna\nINSPIRACJE:\n1. Dzień XXL – szkolna akcja tematyczna\n2. Warsztaty: „Większy nie znaczy gorszy”\n3. Projekt plastyczny „Wielki Format”\n4. Happening lub pokaz mody XXL\n5. Konkurs fotograficzny „Świat z innej perspektywy”\n6. Zajęcia interdyscyplinarne – „Wszystko\, co największe”\n7. Wycieczka do świata „dużego formatu”\nSZCZEGÓŁY I MATERIAŁY DOSTĘPNE W ARTYKULE: Dzień Dużego Rozmiaru
URL:https://szkolnedninietypowe.pl/kalendarz/dzien-duzego-rozmiaru/
ATTACH;FMTTYPE=image/jpeg:https://szkolnedninietypowe.pl/wp-content/uploads/2025/08/DZIEN-DUZEGO-ROZMIARU.jpg
END:VEVENT
END:VCALENDAR