BEGIN:VCALENDAR
VERSION:2.0
PRODID:-//Szkolne dni nietypowe - ECPv6.15.12.2//NONSGML v1.0//EN
CALSCALE:GREGORIAN
METHOD:PUBLISH
X-WR-CALNAME:Szkolne dni nietypowe
X-ORIGINAL-URL:https://szkolnedninietypowe.pl
X-WR-CALDESC:Wydarzenia dla Szkolne dni nietypowe
REFRESH-INTERVAL;VALUE=DURATION:PT1H
X-Robots-Tag:noindex
X-PUBLISHED-TTL:PT1H
BEGIN:VTIMEZONE
TZID:Europe/Warsaw
BEGIN:DAYLIGHT
TZOFFSETFROM:+0100
TZOFFSETTO:+0200
TZNAME:CEST
DTSTART:20250330T010000
END:DAYLIGHT
BEGIN:STANDARD
TZOFFSETFROM:+0200
TZOFFSETTO:+0100
TZNAME:CET
DTSTART:20251026T010000
END:STANDARD
BEGIN:DAYLIGHT
TZOFFSETFROM:+0100
TZOFFSETTO:+0200
TZNAME:CEST
DTSTART:20260329T010000
END:DAYLIGHT
BEGIN:STANDARD
TZOFFSETFROM:+0200
TZOFFSETTO:+0100
TZNAME:CET
DTSTART:20261025T010000
END:STANDARD
BEGIN:DAYLIGHT
TZOFFSETFROM:+0100
TZOFFSETTO:+0200
TZNAME:CEST
DTSTART:20270328T010000
END:DAYLIGHT
BEGIN:STANDARD
TZOFFSETFROM:+0200
TZOFFSETTO:+0100
TZNAME:CET
DTSTART:20271031T010000
END:STANDARD
END:VTIMEZONE
BEGIN:VEVENT
DTSTART;VALUE=DATE:20260422
DTEND;VALUE=DATE:20260423
DTSTAMP:20260422T014908
CREATED:20250730T171649Z
LAST-MODIFIED:20250810T115533Z
UID:983-1776816000-1776902399@szkolnedninietypowe.pl
SUMMARY:Międzynarodowy Dzień Matki Ziemi
DESCRIPTION:PRZEDMIOT: przyroda\, biologia\, chemia\, geografia\, język polski\, języki obce\, matematyka\, fizyka\, technika\, edukacja wczesnoszkolna\, plastyka\, muzyka\, informatyka\, wychowanie fizyczne\, wiedza o społeczeństwie\, edukacja dla bezpieczeństwa\, przedsiębiorczość\, godzina wychowawcza\nINSPIRACJE I POMYSŁY DOSTĘPNE W ARTYKULE:
URL:https://szkolnedninietypowe.pl/kalendarz/miedzynarodowy-dzien-matki-ziemi/
END:VEVENT
BEGIN:VEVENT
DTSTART;VALUE=DATE:20260422
DTEND;VALUE=DATE:20260423
DTSTAMP:20260422T014908
CREATED:20250730T171704Z
LAST-MODIFIED:20250810T115533Z
UID:984-1776816000-1776902399@szkolnedninietypowe.pl
SUMMARY:Dzień „Fasolkowych” Cukierków Jelly Bean
DESCRIPTION:PRZEDMIOT: matematyka\, przyroda\, biologia\, chemia\, język polski\, języki obce\, plastyka\, muzyka\, informatyka\, technika\, edukacja wczesnoszkolna\, wychowanie fizyczne\, wiedza o społeczeństwie\, godzina wychowawcza\nINSPIRACJE I POMYSŁY DOSTĘPNE W ARTYKULE:
URL:https://szkolnedninietypowe.pl/kalendarz/dzien-fasolkowych-cukierkow-jelly-bean/
END:VEVENT
END:VCALENDAR