BEGIN:VCALENDAR
VERSION:2.0
PRODID:-//Szkolne dni nietypowe - ECPv6.15.12.2//NONSGML v1.0//EN
CALSCALE:GREGORIAN
METHOD:PUBLISH
X-WR-CALNAME:Szkolne dni nietypowe
X-ORIGINAL-URL:https://szkolnedninietypowe.pl
X-WR-CALDESC:Wydarzenia dla Szkolne dni nietypowe
REFRESH-INTERVAL;VALUE=DURATION:PT1H
X-Robots-Tag:noindex
X-PUBLISHED-TTL:PT1H
BEGIN:VTIMEZONE
TZID:Europe/Warsaw
BEGIN:DAYLIGHT
TZOFFSETFROM:+0100
TZOFFSETTO:+0200
TZNAME:CEST
DTSTART:20250330T010000
END:DAYLIGHT
BEGIN:STANDARD
TZOFFSETFROM:+0200
TZOFFSETTO:+0100
TZNAME:CET
DTSTART:20251026T010000
END:STANDARD
BEGIN:DAYLIGHT
TZOFFSETFROM:+0100
TZOFFSETTO:+0200
TZNAME:CEST
DTSTART:20260329T010000
END:DAYLIGHT
BEGIN:STANDARD
TZOFFSETFROM:+0200
TZOFFSETTO:+0100
TZNAME:CET
DTSTART:20261025T010000
END:STANDARD
BEGIN:DAYLIGHT
TZOFFSETFROM:+0100
TZOFFSETTO:+0200
TZNAME:CEST
DTSTART:20270328T010000
END:DAYLIGHT
BEGIN:STANDARD
TZOFFSETFROM:+0200
TZOFFSETTO:+0100
TZNAME:CET
DTSTART:20271031T010000
END:STANDARD
END:VTIMEZONE
BEGIN:VEVENT
DTSTART;VALUE=DATE:20260421
DTEND;VALUE=DATE:20260422
DTSTAMP:20260421T115002
CREATED:20250730T171649Z
LAST-MODIFIED:20250810T115533Z
UID:982-1776729600-1776815999@szkolnedninietypowe.pl
SUMMARY:Światowy Dzień Kreatywności i Innowacji
DESCRIPTION:PRZEDMIOT: język polski\, języki obce\, matematyka\, informatyka\, plastyka\, muzyka\, technika\, biologia\, chemia\, fizyka\, historia\, wiedza o społeczeństwie\, edukacja dla bezpieczeństwa\, przedsiębiorczość\, edukacja wczesnoszkolna\, wychowanie fizyczne\, wychowanie do życia w rodzinie\, godzina wychowawcza\nINSPIRACJE I POMYSŁY DOSTĘPNE W ARTYKULE:
URL:https://szkolnedninietypowe.pl/kalendarz/swiatowy-dzien-kreatywnosci-i-innowacji/
END:VEVENT
END:VCALENDAR